BEGIN:VCALENDAR
VERSION:2.0
PRODID:-//Latinxplosion - ECPv6.15.15//NONSGML v1.0//EN
CALSCALE:GREGORIAN
METHOD:PUBLISH
X-ORIGINAL-URL:https://latinxplosion.nl
X-WR-CALDESC:Evenementen voor Latinxplosion
REFRESH-INTERVAL;VALUE=DURATION:PT1H
X-Robots-Tag:noindex
X-PUBLISHED-TTL:PT1H
BEGIN:VTIMEZONE
TZID:Europe/Amsterdam
BEGIN:DAYLIGHT
TZOFFSETFROM:+0100
TZOFFSETTO:+0200
TZNAME:CEST
DTSTART:20230326T010000
END:DAYLIGHT
BEGIN:STANDARD
TZOFFSETFROM:+0200
TZOFFSETTO:+0100
TZNAME:CET
DTSTART:20231029T010000
END:STANDARD
BEGIN:DAYLIGHT
TZOFFSETFROM:+0100
TZOFFSETTO:+0200
TZNAME:CEST
DTSTART:20240331T010000
END:DAYLIGHT
BEGIN:STANDARD
TZOFFSETFROM:+0200
TZOFFSETTO:+0100
TZNAME:CET
DTSTART:20241027T010000
END:STANDARD
BEGIN:DAYLIGHT
TZOFFSETFROM:+0100
TZOFFSETTO:+0200
TZNAME:CEST
DTSTART:20250330T010000
END:DAYLIGHT
BEGIN:STANDARD
TZOFFSETFROM:+0200
TZOFFSETTO:+0100
TZNAME:CET
DTSTART:20251026T010000
END:STANDARD
END:VTIMEZONE
BEGIN:VEVENT
DTSTART;TZID=Europe/Amsterdam:20241228T200000
DTEND;TZID=Europe/Amsterdam:20241229T020000
DTSTAMP:20260424T173227
CREATED:20241005T234121Z
LAST-MODIFIED:20241211T190934Z
UID:816-1735416000-1735437600@latinxplosion.nl
SUMMARY:LATIN-X-PLOSION - Gala Edition
DESCRIPTION:Koop Ticket Hier &#8212;> \nDJ Latin Pro presents\n☆☆☆LATIN-X-PLOSION☆☆☆ Gala Edition \nOp zaterdag 28 december 2024 vind LATIN-X-PLOSION &#8211; Gala Editie plaats te Wensink in Apeldoorn. \nLatin-X-Plosion &#8211; Gala Editie bestaat uit 2 dans-area’s speciaal geselecteerd voor de ultieme Latin & Afro experience.\nMet verschillende top dj’s achter de draaitafels\, krijg je gegarandeerd een spetterende dansavond in stijl! \nOm alvast in de juiste feeststemming te komen starten we de avond met een workshop\,\ndie verzorgt worden door top dans-docenten uit de danswereld. \nDe dresscode voor de speciale LATIN-X-PLOSION editie is GALA.\n*Galakledij is geen vereiste. \n☆☆☆☆☆☆☆☆☆☆ ☆☆☆☆☆☆☆☆☆☆ \n☆☆☆WORKSHOPS☆☆☆\n20:05- 21:00 | Master Class Salsa o.l.v Brian Libier (Salsaddiction)\n*Deelname aan de workshops vraagt om een vroege aanwezigheid. Deuren open om 19:55 uur! \n☆☆☆ SALSA & BACHATA AREA☆☆☆\nJAN REIJNDERS\nDJ Latin Pro (Arnhem)\nDJ Virgil (Rotterdam) \n☆☆☆KIZOMBA AREA☆☆☆\nDJ On Fire (Utrecht)\nDJ Dairyon (Arnhem)\nDJ JS1 (Enschede) \n☆☆☆PICTURES☆☆☆\nFotograaf Victor Reinier legt al je mooiste dansmomenten vast. \n☆☆☆☆☆☆☆☆☆☆ ☆☆☆☆☆☆☆☆☆☆ \n☆☆☆ ALGEMENE INFO ☆☆☆\nDatum: Zaterdag 28 december 2024\nTijd: 20:00 – 02:00\n• Gratis garderobe\n• Gratis parkeerplaatsen \n☆☆☆ LOCATIE ☆☆☆\nWensink Dance Masters\nMusschenbroekstraat 19\, 7316JD te Apeldoorn \n☆☆☆ TICKETS ☆☆☆\nOnline tickets verkrijgbaar via www.latinxplosion.nl\n• Early Bird ticket: €12\,50 (beperkt aantal tickets beschikbaar)\n• Regular ticket: €15\,00 tot 30-11-2024\n• Late Bird ticket: €17\,50\n• Door ticket: €20\,00 \nKoop Ticket Hier &#8212;> \n* Tickets verkoop start op 03-10-2024 en eindigt op 28-12-2024 om 19:00 uur.\nReeds gekochte tickets alleen retour bij annulering door de organisatie.
URL:https://latinxplosion.nl/event/latin-x-plosion-gala-edition-2/
LOCATION:Wensink Dance Masters\, Musschenbroekstraat 19\, Apeldoorn\, Gelderland\, 7316JD\, Nederland
ATTACH;FMTTYPE=image/png:https://latinxplosion.nl/wp-content/uploads/2024/10/Facebookbanner2_LatinXplosion_28dec_2024.png
ORGANIZER;CN="DJ Latin Pro":MAILTO:info@djlatinpro.com
END:VEVENT
BEGIN:VEVENT
DTSTART;TZID=Europe/Amsterdam:20241026T200000
DTEND;TZID=Europe/Amsterdam:20241027T020000
DTSTAMP:20260424T173227
CREATED:20241006T000358Z
LAST-MODIFIED:20241006T114754Z
UID:820-1729972800-1729994400@latinxplosion.nl
SUMMARY:☆LATIN-X-PLOSION☆ 2 Area's || Salsa & Bachata // Kizomba
DESCRIPTION:Koop Ticket Hier &#8212;> \nDJ Latin Pro presents\n☆☆☆LATIN-X-PLOSION☆☆☆ 2 Dance Area&#8217;s \nOp zaterdag 26 oktober vind LATIN-X-PLOSION plaats te Wensink in Apeldoorn. \nLatin-X-Plosion bestaat uit 2 dans-area’s speciaal geselecteerd voor de ultieme Latin & Afro experience.\nMet verschillende top dj’s achter de draaitafels\, krijg je gegarandeerd een spetterende dansavond in stijl! \nOm alvast in de juiste feeststemming te komen starten we de avond met een workshop\,\ndie verzorgt worden door verschillende top dans-docenten uit de danswereld.\nLatin-X-plosion een feest om niet te missen! \n☆☆☆☆☆☆☆☆☆☆ ☆☆☆☆☆☆☆☆☆☆ \n☆☆☆WORKSHOP☆☆☆\n21:05- 21:55 | Workshop Bachata Romantica o.l.v. SalsaShakers.\n*Deelname aan de workshops vraagt om een vroege aanwezigheid. Deuren open om 20:50 uur! \n☆☆☆ SALSA & BACHATA AREA☆☆☆\nDJ Latin Pro (Arnhem)\nDJ Virgil (Rotterdam)\nDJ Rachella (Rotterdam) \n☆☆☆KIZOMBA AREA☆☆☆\nDJ On Fire (Utrecht)\nDJ Dairyon (Arnhem) \n☆☆☆PICTURES☆☆☆\nFotograaf Victor Reinier legt al je mooiste dansmomenten vast. \n☆☆☆☆☆☆☆☆☆☆ ☆☆☆☆☆☆☆☆☆☆ \n☆☆☆ ALGEMENE INFO ☆☆☆\nDatum: Zaterdag 26 oktober 2024\nTijd: 21:00 – 02:00\n• Gratis garderobe\n• Gratis parkeerplaatsen \n☆☆☆ LOCATIE ☆☆☆\nWensink Dance Masters\nMusschenbroekstraat 19\, 7316JD te Apeldoorn \n☆☆☆ TICKETS ☆☆☆\nOnline tickets verkrijgbaar via www.latinxplosion.nl\n• Early Bird ticket: €10\,00 (beperkt aantal tickets beschikbaar)\n• Regular ticket: €12\,50\n• Door ticket: €15\,00 (cash of pin) \nKoop Ticket Hier &#8212;> \n* Tickets verkoop start op 06-10-2024 en eindigt op 26-10-2024 om 20:00 uur.\nReeds gekochte tickets alleen retour bij annulering door de organisatie.
URL:https://latinxplosion.nl/event/%e2%98%86latin-x-plosion%e2%98%86-2-areas-salsa-bachata-kizomba-18/
LOCATION:Wensink Dance Masters\, Musschenbroekstraat 19\, Apeldoorn\, Gelderland\, 7316JD\, Nederland
ATTACH;FMTTYPE=image/png:https://latinxplosion.nl/wp-content/uploads/2024/10/Facebookbanner_LatinXplosion_OKT2024.png
ORGANIZER;CN="DJ Latin Pro":MAILTO:info@djlatinpro.com
END:VEVENT
END:VCALENDAR